BEGIN:VCALENDAR
VERSION:2.0
PRODID:-//ChurchDev//Events//EN
CALSCALE:GREGORIAN
METHOD:PUBLISH
BEGIN:VEVENT
UID:2406-20151209@www.eglisebnn.com
SUMMARY:Bible Study
DTSTART:20151210T010000Z
DTEND:20151210T020000Z
DESCRIPTION:https://www.eglisebnn.com/events/bible-study-3/
URL:https://www.eglisebnn.com/events/bible-study-3/
DTSTAMP:20260420T043427Z
END:VEVENT
END:VCALENDAR
