BEGIN:VCALENDAR
VERSION:2.0
PRODID:-//ChurchDev//Events//EN
CALSCALE:GREGORIAN
METHOD:PUBLISH
BEGIN:VEVENT
UID:2407-20151210@www.eglisebnn.com
SUMMARY:Visitation
DTSTART:20151211T003000Z
DTEND:20151211T020000Z
DESCRIPTION:https://www.eglisebnn.com/events/visitation/
URL:https://www.eglisebnn.com/events/visitation/
DTSTAMP:20260420T043437Z
END:VEVENT
END:VCALENDAR
