BEGIN:VCALENDAR
VERSION:2.0
PRODID:-//ChurchDev//Events//EN
CALSCALE:GREGORIAN
METHOD:PUBLISH
BEGIN:VEVENT
UID:2409-20160103@www.eglisebnn.com
SUMMARY:General Assembly Meeting
DTSTART:20160103T230000Z
DTEND:20160104T000000Z
DESCRIPTION:https://www.eglisebnn.com/events/general-assembly-meeting/
URL:https://www.eglisebnn.com/events/general-assembly-meeting/
DTSTAMP:20260420T043311Z
END:VEVENT
END:VCALENDAR
